BEGIN:VCALENDAR
VERSION:2.0
PRODID:-//Alberti Evangélikus Egyházközség - ECPv6.15.20//NONSGML v1.0//EN
CALSCALE:GREGORIAN
METHOD:PUBLISH
X-WR-CALNAME:Alberti Evangélikus Egyházközség
X-ORIGINAL-URL:https://alberti.egyhazkozseg.hu
X-WR-CALDESC:Események Alberti Evangélikus Egyházközség
REFRESH-INTERVAL;VALUE=DURATION:PT1H
X-Robots-Tag:noindex
X-PUBLISHED-TTL:PT1H
BEGIN:VTIMEZONE
TZID:Europe/Helsinki
BEGIN:DAYLIGHT
TZOFFSETFROM:+0200
TZOFFSETTO:+0300
TZNAME:EEST
DTSTART:20250330T010000
END:DAYLIGHT
BEGIN:STANDARD
TZOFFSETFROM:+0300
TZOFFSETTO:+0200
TZNAME:EET
DTSTART:20251026T010000
END:STANDARD
BEGIN:DAYLIGHT
TZOFFSETFROM:+0200
TZOFFSETTO:+0300
TZNAME:EEST
DTSTART:20260329T010000
END:DAYLIGHT
BEGIN:STANDARD
TZOFFSETFROM:+0300
TZOFFSETTO:+0200
TZNAME:EET
DTSTART:20261025T010000
END:STANDARD
BEGIN:DAYLIGHT
TZOFFSETFROM:+0200
TZOFFSETTO:+0300
TZNAME:EEST
DTSTART:20270328T010000
END:DAYLIGHT
BEGIN:STANDARD
TZOFFSETFROM:+0300
TZOFFSETTO:+0200
TZNAME:EET
DTSTART:20271031T010000
END:STANDARD
END:VTIMEZONE
BEGIN:VEVENT
DTSTART;TZID=Europe/Helsinki:20260420T074500
DTEND;TZID=Europe/Helsinki:20260420T080000
DTSTAMP:20260420T013637
CREATED:20260406T194427Z
LAST-MODIFIED:20260406T194427Z
UID:2549-1776671100-1776672000@alberti.egyhazkozseg.hu
SUMMARY:Reggeli áhitat
DESCRIPTION:
URL:https://alberti.egyhazkozseg.hu/event/reggeli-ahitat-54/
LOCATION:Alberti Evangélikus Egyházközség temploma\, 2730 Albertirsa Pesti út 106.\, Albertirsa\, Pest\, 2730\, Hungary
CATEGORIES:áhitat,Gyermekeknek szóló alkalom,Ifjúsági alkalom,Iskola
END:VEVENT
BEGIN:VEVENT
DTSTART;TZID=Europe/Helsinki:20260420T080000
DTEND;TZID=Europe/Helsinki:20260422T170000
DTSTAMP:20260420T013637
CREATED:20260406T193700Z
LAST-MODIFIED:20260406T193700Z
UID:2537-1776672000-1776877200@alberti.egyhazkozseg.hu
SUMMARY:Óvodai beíratás
DESCRIPTION:Minden tudnivaló ide kattintva érthető el! A beiratkozás mind a három napon 8 órától 17 óráig lehetséges!
URL:https://alberti.egyhazkozseg.hu/event/ovodai-beiratas/
LOCATION:Alberti Evangélikus Óvoda\, Pesti út 104.\, Albertirsa\, Pest vármegye\, 2730\, Hungary
CATEGORIES:Intézmény,Óvoda
END:VEVENT
BEGIN:VEVENT
DTSTART;TZID=Europe/Helsinki:20260420T183000
DTEND;TZID=Europe/Helsinki:20260420T190000
DTSTAMP:20260420T013637
CREATED:20260401T110010Z
LAST-MODIFIED:20260401T110010Z
UID:2453-1776709800-1776711600@alberti.egyhazkozseg.hu
SUMMARY:Férfikör
DESCRIPTION:
URL:https://alberti.egyhazkozseg.hu/event/ferfikor-30/
LOCATION:Alberti Evangélikus Egyházközség imaterme
CATEGORIES:Gyülekezeti alkalom
END:VEVENT
END:VCALENDAR